BEGIN:VCALENDAR
VERSION:2.0
PRODID:-//K.Ö.St.V. Thuringia Wien - ECPv4.6.3//NONSGML v1.0//EN
CALSCALE:GREGORIAN
METHOD:PUBLISH
X-WR-CALNAME:K.Ö.St.V. Thuringia Wien
X-ORIGINAL-URL:http://thuringia.at
X-WR-CALDESC:Events for K.Ö.St.V. Thuringia Wien
BEGIN:VEVENT
DTSTART;TZID=Europe/Vienna:20220408T193000
DTEND;TZID=Europe/Vienna:20220408T223000
DTSTAMP:20260421T070342
CREATED:20220302T104955Z
LAST-MODIFIED:20220302T104955Z
UID:5265-1649446200-1649457000@thuringia.at
SUMMARY:Whiskyverkostung mit AH Xerxes
DESCRIPTION:
URL:http://thuringia.at/event/whiskyverkostung-mit-ah-xerxes/
LOCATION:Lange Gasse 59\, Wien\, 1080\, Österreich
CATEGORIES:c.t., off., mD&G
END:VEVENT
END:VCALENDAR