BEGIN:VCALENDAR
VERSION:2.0
PRODID:-//K.Ö.St.V. Thuringia Wien - ECPv4.6.3//NONSGML v1.0//EN
CALSCALE:GREGORIAN
METHOD:PUBLISH
X-WR-CALNAME:K.Ö.St.V. Thuringia Wien
X-ORIGINAL-URL:http://thuringia.at
X-WR-CALDESC:Events for K.Ö.St.V. Thuringia Wien
BEGIN:VEVENT
DTSTART;TZID=Europe/Vienna:20220907T193000
DTEND;TZID=Europe/Vienna:20220907T210000
DTSTAMP:20260422T012522
CREATED:20220906T121624Z
LAST-MODIFIED:20220906T121624Z
UID:5776-1662579000-1662584400@thuringia.at
SUMMARY:Trauerkneipe
DESCRIPTION:
URL:http://thuringia.at/event/trauerkneipe/
LOCATION:Lange Gasse 59\, Wien\, 1080\, Österreich
CATEGORIES:s.t., off.
END:VEVENT
END:VCALENDAR