BEGIN:VCALENDAR
VERSION:2.0
PRODID:-//K.Ö.St.V. Thuringia Wien - ECPv4.6.3//NONSGML v1.0//EN
CALSCALE:GREGORIAN
METHOD:PUBLISH
X-WR-CALNAME:K.Ö.St.V. Thuringia Wien
X-ORIGINAL-URL:http://thuringia.at
X-WR-CALDESC:Events for K.Ö.St.V. Thuringia Wien
BEGIN:VEVENT
DTSTART;VALUE=DATE:20220603
DTEND;VALUE=DATE:20220607
DTSTAMP:20260420T235742
CREATED:20220302T105755Z
LAST-MODIFIED:20220302T105755Z
UID:5287-1654214400-1654559999@thuringia.at
SUMMARY:Pennälertag
DESCRIPTION:In Wels: https://pt22.at/ \n
URL:http://thuringia.at/event/pennaelertag/
CATEGORIES:c.t., off., mD&G
END:VEVENT
END:VCALENDAR