BEGIN:VCALENDAR
VERSION:2.0
PRODID:-//K.Ö.St.V. Thuringia Wien - ECPv4.6.3//NONSGML v1.0//EN
CALSCALE:GREGORIAN
METHOD:PUBLISH
X-WR-CALNAME:K.Ö.St.V. Thuringia Wien
X-ORIGINAL-URL:http://thuringia.at
X-WR-CALDESC:Events for K.Ö.St.V. Thuringia Wien
BEGIN:VEVENT
DTSTART;TZID=Europe/Vienna:20170421T193000
DTEND;TZID=Europe/Vienna:20170421T230000
DTSTAMP:20260420T084256
CREATED:20170415T174954Z
LAST-MODIFIED:20170415T174954Z
UID:3408-1492803000-1492815600@thuringia.at
SUMMARY:Osterkreuzkneipe
DESCRIPTION:mit unserer Freundschaftsverbindung e.v. K.Ö.St.V. Donaumark Wien \n
URL:http://thuringia.at/event/osterkreuzkneipe-3/
LOCATION:Lange Gasse 59\, Wien\, 1080\, Österreich
CATEGORIES:c.t., off., mD&G
ORGANIZER;CN="Thuringia%20Wien":MAILTO:chc@thuringia.at
END:VEVENT
END:VCALENDAR