BEGIN:VCALENDAR
VERSION:2.0
PRODID:-//K.Ö.St.V. Thuringia Wien - ECPv4.6.3//NONSGML v1.0//EN
CALSCALE:GREGORIAN
METHOD:PUBLISH
X-WR-CALNAME:K.Ö.St.V. Thuringia Wien
X-ORIGINAL-URL:http://thuringia.at
X-WR-CALDESC:Events for K.Ö.St.V. Thuringia Wien
BEGIN:VEVENT
DTSTART;TZID=Europe/Vienna:20210922T193000
DTEND;TZID=Europe/Vienna:20210922T213000
DTSTAMP:20260421T134605
CREATED:20210914T104928Z
LAST-MODIFIED:20210914T104928Z
UID:5138-1632339000-1632346200@thuringia.at
SUMMARY:Jubelgeburtstagsheuriger
DESCRIPTION:
URL:http://thuringia.at/event/jubelgeburtstagsheuriger-4/
LOCATION:Lange Gasse 59\, Wien\, 1080\, Österreich
CATEGORIES:c.t., off., mD&G
ORGANIZER;CN="Thuringia%20Wien":MAILTO:chc@thuringia.at
END:VEVENT
END:VCALENDAR