BEGIN:VCALENDAR
VERSION:2.0
PRODID:-//K.Ö.St.V. Thuringia Wien - ECPv4.6.3//NONSGML v1.0//EN
CALSCALE:GREGORIAN
METHOD:PUBLISH
X-WR-CALNAME:K.Ö.St.V. Thuringia Wien
X-ORIGINAL-URL:http://thuringia.at
X-WR-CALDESC:Events for K.Ö.St.V. Thuringia Wien
BEGIN:VEVENT
DTSTART;TZID=Europe/Vienna:20211006T193000
DTEND;TZID=Europe/Vienna:20211006T213000
DTSTAMP:20260421T183415
CREATED:20210914T105128Z
LAST-MODIFIED:20210914T105128Z
UID:5144-1633548600-1633555800@thuringia.at
SUMMARY:Fußball
DESCRIPTION:
URL:http://thuringia.at/event/fussball/
CATEGORIES:c.t., ad lib., mD&G
END:VEVENT
END:VCALENDAR