BEGIN:VCALENDAR
VERSION:2.0
PRODID:-//K.Ö.St.V. Thuringia Wien - ECPv4.6.3//NONSGML v1.0//EN
CALSCALE:GREGORIAN
METHOD:PUBLISH
X-WR-CALNAME:K.Ö.St.V. Thuringia Wien
X-ORIGINAL-URL:http://thuringia.at
X-WR-CALDESC:Events for K.Ö.St.V. Thuringia Wien
BEGIN:VEVENT
DTSTART;TZID=Europe/Vienna:20210929T193000
DTEND;TZID=Europe/Vienna:20210929T213000
DTSTAMP:20260421T152306
CREATED:20210914T105002Z
LAST-MODIFIED:20210914T105002Z
UID:5140-1632943800-1632951000@thuringia.at
SUMMARY:Budenabend
DESCRIPTION:
URL:http://thuringia.at/event/budenabend-21/
LOCATION:Lange Gasse 59\, Wien\, 1080\, Österreich
CATEGORIES:c.t., ad lib., mD&G
ORGANIZER;CN="Thuringia%20Wien":MAILTO:chc@thuringia.at
END:VEVENT
END:VCALENDAR