BEGIN:VCALENDAR
VERSION:2.0
PRODID:-//K.Ö.St.V. Thuringia Wien - ECPv4.6.3//NONSGML v1.0//EN
CALSCALE:GREGORIAN
METHOD:PUBLISH
X-WR-CALNAME:K.Ö.St.V. Thuringia Wien
X-ORIGINAL-URL:http://thuringia.at
X-WR-CALDESC:Events for K.Ö.St.V. Thuringia Wien
BEGIN:VEVENT
DTSTART;TZID=Europe/Vienna:20171213T193000
DTEND;TZID=Europe/Vienna:20171213T223000
DTSTAMP:20260422T090440
CREATED:20171109T172211Z
LAST-MODIFIED:20171109T172211Z
UID:3479-1513193400-1513204200@thuringia.at
SUMMARY:Adventbesinnung
DESCRIPTION:
URL:http://thuringia.at/event/adventbesinnung-2/
LOCATION:Lange Gasse 59\, Wien\, 1080\, Österreich
CATEGORIES:s.t., off., mD&G
ORGANIZER;CN="Thuringia%20Wien":MAILTO:chc@thuringia.at
END:VEVENT
END:VCALENDAR