BEGIN:VCALENDAR
VERSION:2.0
PRODID:-//K.Ö.St.V. Thuringia Wien - ECPv4.6.3//NONSGML v1.0//EN
CALSCALE:GREGORIAN
METHOD:PUBLISH
X-WR-CALNAME:K.Ö.St.V. Thuringia Wien
X-ORIGINAL-URL:http://thuringia.at
X-WR-CALDESC:Events for K.Ö.St.V. Thuringia Wien
BEGIN:VEVENT
DTSTART;VALUE=DATE:20240419
DTEND;VALUE=DATE:20240422
DTSTAMP:20260422T113519
CREATED:20240205T104940Z
LAST-MODIFIED:20240205T104940Z
UID:6063-1713484800-1713743999@thuringia.at
SUMMARY:62. Stiftungsfest Thuringia Coburg
DESCRIPTION:Wir feiern das 62. Stiftungsfest unserer Freundschaftsverbindung K.St.V. Thuringia Coburg im CV. \n
URL:http://thuringia.at/event/62-stiftungsfest-thuringia-coburg/
CATEGORIES:c.t., off., mD&G
END:VEVENT
END:VCALENDAR